Package: erccdashboard Version: 1.40.0 Command: F:\biocbuild\bbs-3.20-bioc\R\bin\R.exe CMD INSTALL erccdashboard StartedAt: 2025-03-31 15:35:38 -0400 (Mon, 31 Mar 2025) EndedAt: 2025-03-31 15:36:07 -0400 (Mon, 31 Mar 2025) EllapsedTime: 28.9 seconds RetCode: 0 Status: OK