Package: erccdashboard Version: 1.40.0 Command: rm -rf erccdashboard.buildbin-libdir && mkdir erccdashboard.buildbin-libdir && /Users/biocbuild/BBS/utils/build-universal.sh erccdashboard_1.40.0.tar.gz /Library/Frameworks/R.framework/Resources/bin/R erccdashboard.buildbin-libdir StartedAt: 2025-02-04 12:54:52 -0500 (Tue, 04 Feb 2025) EndedAt: 2025-02-04 12:55:11 -0500 (Tue, 04 Feb 2025) EllapsedTime: 19.8 seconds RetCode: 0 Status: OK PackageFile: erccdashboard_1.40.0.tgz PackageFileSize: 2.735 MiB