Package: epivizrStandalone Version: 1.34.0 Command: /home/biocbuild/R/R/bin/R CMD build --keep-empty-dirs --no-resave-data epivizrStandalone StartedAt: 2025-01-28 00:13:57 -0000 (Tue, 28 Jan 2025) EndedAt: 2025-01-28 00:14:52 -0000 (Tue, 28 Jan 2025) EllapsedTime: 55.0 seconds RetCode: 0 Status: OK PackageFile: epivizrStandalone_1.34.0.tar.gz PackageFileSize: 289.3 KiB