Package: epivizrStandalone Version: 1.34.0 Command: /home/biocbuild/bbs-3.20-bioc/R/bin/R CMD INSTALL epivizrStandalone StartedAt: 2025-03-31 15:35:54 -0400 (Mon, 31 Mar 2025) EndedAt: 2025-03-31 15:36:34 -0400 (Mon, 31 Mar 2025) EllapsedTime: 40.0 seconds RetCode: 0 Status: OK