Package: epivizrStandalone Version: 1.34.0 Command: /Library/Frameworks/R.framework/Resources/bin/R CMD check --install=check:epivizrStandalone.install-out.txt --library=/Library/Frameworks/R.framework/Resources/library --no-vignettes --timings epivizrStandalone_1.34.0.tar.gz StartedAt: 2024-11-19 21:52:23 -0500 (Tue, 19 Nov 2024) EndedAt: 2024-11-19 22:02:08 -0500 (Tue, 19 Nov 2024) EllapsedTime: 584.5 seconds RetCode: 0 Status: WARNINGS CheckDir: epivizrStandalone.Rcheck Warnings: 1