Package: epivizrServer Version: 1.34.0 Command: /Library/Frameworks/R.framework/Resources/bin/R CMD INSTALL epivizrServer StartedAt: 2025-03-31 15:15:25 -0400 (Mon, 31 Mar 2025) EndedAt: 2025-03-31 15:15:33 -0400 (Mon, 31 Mar 2025) EllapsedTime: 7.9 seconds RetCode: 0 Status: OK