Package: epivizrData Version: 1.34.0 Command: /Library/Frameworks/R.framework/Resources/bin/R CMD check --install=check:epivizrData.install-out.txt --library=/Library/Frameworks/R.framework/Resources/library --no-vignettes --timings epivizrData_1.34.0.tar.gz StartedAt: 2025-04-01 02:45:15 -0400 (Tue, 01 Apr 2025) EndedAt: 2025-04-01 02:56:20 -0400 (Tue, 01 Apr 2025) EllapsedTime: 664.5 seconds RetCode: 0 Status: OK CheckDir: epivizrData.Rcheck Warnings: 0