Package: epivizrChart Version: 1.28.0 Command: /Library/Frameworks/R.framework/Resources/bin/R CMD check --install=check:epivizrChart.install-out.txt --library=/Library/Frameworks/R.framework/Resources/library --no-vignettes --timings epivizrChart_1.28.0.tar.gz StartedAt: 2025-04-01 18:39:06 -0400 (Tue, 01 Apr 2025) EndedAt: 2025-04-01 18:44:29 -0400 (Tue, 01 Apr 2025) EllapsedTime: 323.2 seconds RetCode: 0 Status: OK CheckDir: epivizrChart.Rcheck Warnings: 0