Package: epivizr Version: 2.36.0 Command: F:\biocbuild\bbs-3.20-bioc\R\bin\R.exe CMD INSTALL epivizr StartedAt: 2025-01-27 16:19:25 -0500 (Mon, 27 Jan 2025) EndedAt: 2025-01-27 16:20:31 -0500 (Mon, 27 Jan 2025) EllapsedTime: 66.0 seconds RetCode: 0 Status: OK