Package: epistasisGA Version: 1.8.0 Command: chmod a+r epistasisGA -R && F:\biocbuild\bbs-3.20-bioc\R\bin\R.exe CMD build --keep-empty-dirs --no-resave-data epistasisGA StartedAt: 2025-03-31 18:44:11 -0400 (Mon, 31 Mar 2025) EndedAt: 2025-03-31 18:50:36 -0400 (Mon, 31 Mar 2025) EllapsedTime: 384.3 seconds RetCode: 0 Status: OK PackageFile: epistasisGA_1.8.0.tar.gz PackageFileSize: 1.346 MiB