Package: epistasisGA Version: 1.8.0 Command: /Library/Frameworks/R.framework/Resources/bin/R CMD build --keep-empty-dirs --no-resave-data epistasisGA StartedAt: 2025-03-31 18:34:21 -0400 (Mon, 31 Mar 2025) EndedAt: 2025-03-31 18:39:29 -0400 (Mon, 31 Mar 2025) EllapsedTime: 308.8 seconds RetCode: 0 Status: OK PackageFile: epistasisGA_1.8.0.tar.gz PackageFileSize: 2.059 MiB