Package: epistack Version: 1.12.0 Command: /home/biocbuild/R/R/bin/R CMD check --install=check:epistack.install-out.txt --library=/home/biocbuild/R/R/site-library --no-vignettes --timings epistack_1.12.0.tar.gz StartedAt: 2025-02-04 06:47:52 -0000 (Tue, 04 Feb 2025) EndedAt: 2025-02-04 06:51:37 -0000 (Tue, 04 Feb 2025) EllapsedTime: 225.4 seconds RetCode: 0 Status: OK CheckDir: epistack.Rcheck Warnings: 0