Package: epistack Version: 1.12.0 Command: /Library/Frameworks/R.framework/Resources/bin/R CMD build --keep-empty-dirs --no-resave-data epistack StartedAt: 2025-01-27 23:22:57 -0500 (Mon, 27 Jan 2025) EndedAt: 2025-01-27 23:24:39 -0500 (Mon, 27 Jan 2025) EllapsedTime: 102.1 seconds RetCode: 0 Status: OK PackageFile: epistack_1.12.0.tar.gz PackageFileSize: 3.946 MiB