Package: epiregulon Version: 1.2.0 Command: rm -rf epiregulon.buildbin-libdir && mkdir epiregulon.buildbin-libdir && F:\biocbuild\bbs-3.20-bioc\R\bin\R.exe CMD INSTALL --build --library=epiregulon.buildbin-libdir epiregulon_1.2.0.tar.gz StartedAt: 2025-02-11 08:25:20 -0500 (Tue, 11 Feb 2025) EndedAt: 2025-02-11 08:26:23 -0500 (Tue, 11 Feb 2025) EllapsedTime: 63.5 seconds RetCode: 0 Status: OK PackageFile: epiregulon_1.2.0.zip PackageFileSize: 1.145 MiB