Package: epiregulon Version: 1.2.0 Command: /home/biocbuild/bbs-3.20-bioc/R/bin/R CMD check --install=check:epiregulon.install-out.txt --library=/home/biocbuild/bbs-3.20-bioc/R/site-library --timings epiregulon_1.2.0.tar.gz StartedAt: 2025-02-10 22:01:31 -0500 (Mon, 10 Feb 2025) EndedAt: 2025-02-10 22:12:47 -0500 (Mon, 10 Feb 2025) EllapsedTime: 675.7 seconds RetCode: 0 Status: OK CheckDir: epiregulon.Rcheck Warnings: 0