Package: epiregulon Version: 1.2.0 Command: /home/biocbuild/bbs-3.20-bioc/R/bin/R CMD build --keep-empty-dirs --no-resave-data --md5 epiregulon StartedAt: 2025-02-10 17:13:26 -0500 (Mon, 10 Feb 2025) EndedAt: 2025-02-10 17:16:45 -0500 (Mon, 10 Feb 2025) EllapsedTime: 198.4 seconds RetCode: 0 Status: OK PackageFile: epiregulon_1.2.0.tar.gz PackageFileSize: 1.171 MiB