Package: epiregulon Version: 1.2.0 Command: /Library/Frameworks/R.framework/Resources/bin/R CMD INSTALL epiregulon StartedAt: 2025-02-10 16:29:34 -0500 (Mon, 10 Feb 2025) EndedAt: 2025-02-10 16:30:56 -0500 (Mon, 10 Feb 2025) EllapsedTime: 82.0 seconds RetCode: 0 Status: OK