Package: epiregulon Version: 1.2.0 Command: rm -rf epiregulon.buildbin-libdir && mkdir epiregulon.buildbin-libdir && /Users/biocbuild/BBS/utils/build-universal.sh epiregulon_1.2.0.tar.gz /Library/Frameworks/R.framework/Resources/bin/R epiregulon.buildbin-libdir StartedAt: 2025-02-11 13:10:04 -0500 (Tue, 11 Feb 2025) EndedAt: 2025-02-11 13:11:52 -0500 (Tue, 11 Feb 2025) EllapsedTime: 107.9 seconds RetCode: 0 Status: OK PackageFile: epiregulon_1.2.0.tgz PackageFileSize: 1.406 MiB