Package: epiregulon Version: 1.2.0 Command: /Library/Frameworks/R.framework/Resources/bin/R CMD INSTALL epiregulon StartedAt: 2025-02-10 17:55:18 -0500 (Mon, 10 Feb 2025) EndedAt: 2025-02-10 17:56:02 -0500 (Mon, 10 Feb 2025) EllapsedTime: 44.2 seconds RetCode: 0 Status: OK