Package: epiregulon.extra Version: 1.2.4 Command: rm -rf epiregulon.extra.buildbin-libdir && mkdir epiregulon.extra.buildbin-libdir && F:\biocbuild\bbs-3.20-bioc\R\bin\R.exe CMD INSTALL --build --library=epiregulon.extra.buildbin-libdir epiregulon.extra_1.2.4.tar.gz StartedAt: 2025-04-01 08:09:31 -0400 (Tue, 01 Apr 2025) EndedAt: 2025-04-01 08:10:50 -0400 (Tue, 01 Apr 2025) EllapsedTime: 79.3 seconds RetCode: 0 Status: OK PackageFile: epiregulon.extra_1.2.4.zip PackageFileSize: 2.079 MiB