Package: epiregulon.extra Version: 1.2.4 Command: /home/biocbuild/bbs-3.20-bioc/R/bin/R CMD check --install=check:epiregulon.extra.install-out.txt --library=/home/biocbuild/bbs-3.20-bioc/R/site-library --timings epiregulon.extra_1.2.4.tar.gz StartedAt: 2025-03-31 21:56:49 -0400 (Mon, 31 Mar 2025) EndedAt: 2025-03-31 22:12:10 -0400 (Mon, 31 Mar 2025) EllapsedTime: 921.0 seconds RetCode: 0 Status: OK CheckDir: epiregulon.extra.Rcheck Warnings: 0