Package: epiregulon.extra Version: 1.2.4 Command: /Library/Frameworks/R.framework/Resources/bin/R CMD check --install=check:epiregulon.extra.install-out.txt --library=/Library/Frameworks/R.framework/Resources/library --no-vignettes --timings epiregulon.extra_1.2.4.tar.gz StartedAt: 2025-04-01 18:34:53 -0400 (Tue, 01 Apr 2025) EndedAt: 2025-04-01 18:45:12 -0400 (Tue, 01 Apr 2025) EllapsedTime: 619.6 seconds RetCode: 0 Status: OK CheckDir: epiregulon.extra.Rcheck Warnings: 0