Package: epimutacions Version: 1.10.0 Command: /home/biocbuild/R/R/bin/R CMD build --keep-empty-dirs --no-resave-data epimutacions StartedAt: 2025-03-31 23:19:24 -0000 (Mon, 31 Mar 2025) EndedAt: 2025-03-31 23:23:33 -0000 (Mon, 31 Mar 2025) EllapsedTime: 249.1 seconds RetCode: 0 Status: OK PackageFile: epimutacions_1.10.0.tar.gz PackageFileSize: 1.709 MiB