Package: epimutacions Version: 1.10.0 Command: F:\biocbuild\bbs-3.20-bioc\R\bin\R.exe CMD check --no-multiarch --install=check:epimutacions.install-out.txt --library=F:\biocbuild\bbs-3.20-bioc\R\library --no-vignettes --timings epimutacions_1.10.0.tar.gz StartedAt: 2025-01-28 01:19:17 -0500 (Tue, 28 Jan 2025) EndedAt: 2025-01-28 01:26:52 -0500 (Tue, 28 Jan 2025) EllapsedTime: 454.8 seconds RetCode: 0 Status: OK CheckDir: epimutacions.Rcheck Warnings: 0