Package: epimutacions Version: 1.10.0 Command: chmod a+r epimutacions -R && F:\biocbuild\bbs-3.20-bioc\R\bin\R.exe CMD build --keep-empty-dirs --no-resave-data epimutacions StartedAt: 2025-03-31 18:42:44 -0400 (Mon, 31 Mar 2025) EndedAt: 2025-03-31 18:46:59 -0400 (Mon, 31 Mar 2025) EllapsedTime: 255.0 seconds RetCode: 0 Status: OK PackageFile: epimutacions_1.10.0.tar.gz PackageFileSize: 1.622 MiB