Package: epimutacions Version: 1.10.0 Command: rm -rf epimutacions.buildbin-libdir && mkdir epimutacions.buildbin-libdir && F:\biocbuild\bbs-3.20-bioc\R\bin\R.exe CMD INSTALL --build --library=epimutacions.buildbin-libdir epimutacions_1.10.0.tar.gz StartedAt: 2025-04-01 08:09:22 -0400 (Tue, 01 Apr 2025) EndedAt: 2025-04-01 08:10:48 -0400 (Tue, 01 Apr 2025) EllapsedTime: 86.5 seconds RetCode: 0 Status: OK PackageFile: epimutacions_1.10.0.zip PackageFileSize: 1.589 MiB