Package: epimutacions Version: 1.10.0 Command: /home/biocbuild/bbs-3.20-bioc/R/bin/R CMD build --keep-empty-dirs --no-resave-data --md5 epimutacions StartedAt: 2025-01-27 18:05:41 -0500 (Mon, 27 Jan 2025) EndedAt: 2025-01-27 18:08:44 -0500 (Mon, 27 Jan 2025) EllapsedTime: 183.2 seconds RetCode: 0 Status: OK PackageFile: epimutacions_1.10.0.tar.gz PackageFileSize: 1.727 MiB