Package: epigraHMM Version: 1.14.0 Command: /home/biocbuild/R/R/bin/R CMD INSTALL epigraHMM StartedAt: 2025-01-30 21:05:24 -0000 (Thu, 30 Jan 2025) EndedAt: 2025-01-30 21:08:25 -0000 (Thu, 30 Jan 2025) EllapsedTime: 181.9 seconds RetCode: 0 Status: OK