Package: epigraHMM Version: 1.14.0 Command: /home/biocbuild/R/R/bin/R CMD check --install=check:epigraHMM.install-out.txt --library=/home/biocbuild/R/R/site-library --no-vignettes --timings epigraHMM_1.14.0.tar.gz StartedAt: 2025-01-31 06:01:48 -0000 (Fri, 31 Jan 2025) EndedAt: 2025-01-31 06:11:05 -0000 (Fri, 31 Jan 2025) EllapsedTime: 556.6 seconds RetCode: 0 Status: WARNINGS CheckDir: epigraHMM.Rcheck Warnings: 1