Package: epigraHMM Version: 1.14.0 Command: /home/biocbuild/R/R/bin/R CMD build --keep-empty-dirs --no-resave-data epigraHMM StartedAt: 2025-01-30 23:26:21 -0000 (Thu, 30 Jan 2025) EndedAt: 2025-01-30 23:41:52 -0000 (Thu, 30 Jan 2025) EllapsedTime: 931.4 seconds RetCode: 0 Status: OK PackageFile: epigraHMM_1.14.0.tar.gz PackageFileSize: 628.3 KiB