Package: epigraHMM Version: 1.14.0 Command: /Library/Frameworks/R.framework/Resources/bin/R CMD INSTALL epigraHMM StartedAt: 2025-03-31 16:37:12 -0400 (Mon, 31 Mar 2025) EndedAt: 2025-03-31 16:41:29 -0400 (Mon, 31 Mar 2025) EllapsedTime: 256.9 seconds RetCode: 0 Status: OK