Package: epigraHMM Version: 1.14.0 Command: /Library/Frameworks/R.framework/Resources/bin/R CMD check --install=check:epigraHMM.install-out.txt --library=/Library/Frameworks/R.framework/Resources/library --no-vignettes --timings epigraHMM_1.14.0.tar.gz StartedAt: 2024-11-09 01:44:56 -0500 (Sat, 09 Nov 2024) EndedAt: 2024-11-09 01:51:26 -0500 (Sat, 09 Nov 2024) EllapsedTime: 389.8 seconds RetCode: 0 Status: WARNINGS CheckDir: epigraHMM.Rcheck Warnings: 1