Package: epigraHMM Version: 1.14.0 Command: rm -rf epigraHMM.buildbin-libdir && mkdir epigraHMM.buildbin-libdir && /Users/biocbuild/BBS/utils/build-universal.sh epigraHMM_1.14.0.tar.gz /Library/Frameworks/R.framework/Resources/bin/R epigraHMM.buildbin-libdir StartedAt: 2025-02-01 14:49:26 -0500 (Sat, 01 Feb 2025) EndedAt: 2025-02-01 14:51:36 -0500 (Sat, 01 Feb 2025) EllapsedTime: 129.8 seconds RetCode: 0 Status: OK PackageFile: epigraHMM_1.14.0.tgz PackageFileSize: 2.013 MiB