Package: epigenomix Version: 1.46.0 Command: /home/biocbuild/R/R/bin/R CMD build --keep-empty-dirs --no-resave-data epigenomix StartedAt: 2025-03-31 23:18:52 -0000 (Mon, 31 Mar 2025) EndedAt: 2025-03-31 23:20:36 -0000 (Mon, 31 Mar 2025) EllapsedTime: 104.1 seconds RetCode: 0 Status: OK PackageFile: epigenomix_1.46.0.tar.gz PackageFileSize: 422.7 KiB