Package: epigenomix Version: 1.46.0 Command: rm -rf epigenomix.buildbin-libdir && mkdir epigenomix.buildbin-libdir && F:\biocbuild\bbs-3.20-bioc\R\bin\R.exe CMD INSTALL --build --library=epigenomix.buildbin-libdir epigenomix_1.46.0.tar.gz StartedAt: 2025-04-01 08:09:12 -0400 (Tue, 01 Apr 2025) EndedAt: 2025-04-01 08:10:27 -0400 (Tue, 01 Apr 2025) EllapsedTime: 74.4 seconds RetCode: 0 Status: OK PackageFile: epigenomix_1.46.0.zip PackageFileSize: 968.1 KiB