Package: epigenomix Version: 1.46.0 Command: /home/biocbuild/bbs-3.20-bioc/R/bin/R CMD INSTALL epigenomix StartedAt: 2025-01-27 16:35:43 -0500 (Mon, 27 Jan 2025) EndedAt: 2025-01-27 16:36:24 -0500 (Mon, 27 Jan 2025) EllapsedTime: 40.4 seconds RetCode: 0 Status: OK