Package: epigenomix Version: 1.46.0 Command: /Library/Frameworks/R.framework/Resources/bin/R CMD INSTALL epigenomix StartedAt: 2025-03-31 16:09:32 -0400 (Mon, 31 Mar 2025) EndedAt: 2025-03-31 16:10:55 -0400 (Mon, 31 Mar 2025) EllapsedTime: 83.3 seconds RetCode: 0 Status: OK