Package: epigenomix Version: 1.46.0 Command: /Library/Frameworks/R.framework/Resources/bin/R CMD check --install=check:epigenomix.install-out.txt --library=/Library/Frameworks/R.framework/Resources/library --no-vignettes --timings epigenomix_1.46.0.tar.gz StartedAt: 2025-04-01 18:25:29 -0400 (Tue, 01 Apr 2025) EndedAt: 2025-04-01 18:30:48 -0400 (Tue, 01 Apr 2025) EllapsedTime: 319.0 seconds RetCode: 0 Status: OK CheckDir: epigenomix.Rcheck Warnings: 0