Package: epigenomix Version: 1.46.0 Command: rm -rf epigenomix.buildbin-libdir && mkdir epigenomix.buildbin-libdir && /Users/biocbuild/BBS/utils/build-universal.sh epigenomix_1.46.0.tar.gz /Library/Frameworks/R.framework/Resources/bin/R epigenomix.buildbin-libdir StartedAt: 2025-01-29 14:32:36 -0500 (Wed, 29 Jan 2025) EndedAt: 2025-01-29 14:33:23 -0500 (Wed, 29 Jan 2025) EllapsedTime: 47.3 seconds RetCode: 0 Status: OK PackageFile: epigenomix_1.46.0.tgz PackageFileSize: 961.7 KiB