Package: epidecodeR Version: 1.14.0 Command: /home/biocbuild/R/R/bin/R CMD INSTALL epidecodeR StartedAt: 2025-02-10 21:06:33 -0000 (Mon, 10 Feb 2025) EndedAt: 2025-02-10 21:07:13 -0000 (Mon, 10 Feb 2025) EllapsedTime: 40.8 seconds RetCode: 0 Status: OK