Package: epidecodeR Version: 1.14.0 Command: /Library/Frameworks/R.framework/Resources/bin/R CMD INSTALL epidecodeR StartedAt: 2025-01-27 18:14:05 -0500 (Mon, 27 Jan 2025) EndedAt: 2025-01-27 18:14:42 -0500 (Mon, 27 Jan 2025) EllapsedTime: 37.6 seconds RetCode: 0 Status: OK