Package: epidecodeR Version: 1.14.0 Command: rm -rf epidecodeR.buildbin-libdir && mkdir epidecodeR.buildbin-libdir && /Users/biocbuild/BBS/utils/build-universal.sh epidecodeR_1.14.0.tar.gz /Library/Frameworks/R.framework/Resources/bin/R epidecodeR.buildbin-libdir StartedAt: 2025-01-29 14:32:20 -0500 (Wed, 29 Jan 2025) EndedAt: 2025-01-29 14:33:02 -0500 (Wed, 29 Jan 2025) EllapsedTime: 41.9 seconds RetCode: 0 Status: OK PackageFile: epidecodeR_1.14.0.tgz PackageFileSize: 1.949 MiB