Package: epialleleR Version: 1.14.0 Command: /home/biocbuild/R/R/bin/R CMD INSTALL epialleleR StartedAt: 2025-02-03 20:29:54 -0000 (Mon, 03 Feb 2025) EndedAt: 2025-02-03 20:31:28 -0000 (Mon, 03 Feb 2025) EllapsedTime: 93.5 seconds RetCode: 0 Status: OK