Package: epialleleR Version: 1.14.0 Command: /home/biocbuild/R/R/bin/R CMD check --install=check:epialleleR.install-out.txt --library=/home/biocbuild/R/R/site-library --no-vignettes --timings epialleleR_1.14.0.tar.gz StartedAt: 2025-01-31 06:00:12 -0000 (Fri, 31 Jan 2025) EndedAt: 2025-01-31 06:02:49 -0000 (Fri, 31 Jan 2025) EllapsedTime: 157.1 seconds RetCode: 0 Status: OK CheckDir: epialleleR.Rcheck Warnings: 0