Package: epialleleR Version: 1.14.0 Command: /home/biocbuild/R/R/bin/R CMD build --keep-empty-dirs --no-resave-data epialleleR StartedAt: 2025-01-30 23:25:42 -0000 (Thu, 30 Jan 2025) EndedAt: 2025-01-30 23:28:12 -0000 (Thu, 30 Jan 2025) EllapsedTime: 150.0 seconds RetCode: 0 Status: OK PackageFile: epialleleR_1.14.0.tar.gz PackageFileSize: 2.686 MiB