Package: epialleleR Version: 1.14.0 Command: /home/biocbuild/bbs-3.20-bioc/R/bin/R CMD build --keep-empty-dirs --no-resave-data --md5 epialleleR StartedAt: 2025-01-27 18:04:27 -0500 (Mon, 27 Jan 2025) EndedAt: 2025-01-27 18:06:09 -0500 (Mon, 27 Jan 2025) EllapsedTime: 102.1 seconds RetCode: 0 Status: OK PackageFile: epialleleR_1.14.0.tar.gz PackageFileSize: 3.599 MiB