Package: epialleleR Version: 1.14.0 Command: /Library/Frameworks/R.framework/Resources/bin/R CMD check --install=check:epialleleR.install-out.txt --library=/Library/Frameworks/R.framework/Resources/library --no-vignettes --timings epialleleR_1.14.0.tar.gz StartedAt: 2025-01-28 18:29:44 -0500 (Tue, 28 Jan 2025) EndedAt: 2025-01-28 18:32:13 -0500 (Tue, 28 Jan 2025) EllapsedTime: 149.3 seconds RetCode: 0 Status: OK CheckDir: epialleleR.Rcheck Warnings: 0