Package: epiNEM Version: 1.30.0 Command: /home/biocbuild/R/R/bin/R CMD build --keep-empty-dirs --no-resave-data epiNEM StartedAt: 2025-02-03 23:26:41 -0000 (Mon, 03 Feb 2025) EndedAt: 2025-02-03 23:28:12 -0000 (Mon, 03 Feb 2025) EllapsedTime: 91.0 seconds RetCode: 0 Status: OK PackageFile: epiNEM_1.30.0.tar.gz PackageFileSize: 1.184 MiB