Package: ensembldb Version: 2.30.0 Command: rm -rf ensembldb.buildbin-libdir && mkdir ensembldb.buildbin-libdir && F:\biocbuild\bbs-3.20-bioc\R\bin\R.exe CMD INSTALL --build --library=ensembldb.buildbin-libdir ensembldb_2.30.0.tar.gz StartedAt: 2025-01-31 08:36:32 -0500 (Fri, 31 Jan 2025) EndedAt: 2025-01-31 08:38:15 -0500 (Fri, 31 Jan 2025) EllapsedTime: 103.2 seconds RetCode: 0 Status: OK PackageFile: ensembldb_2.30.0.zip PackageFileSize: 3.436 MiB