Package: ensembldb Version: 2.30.0 Command: /Library/Frameworks/R.framework/Resources/bin/R CMD build --keep-empty-dirs --no-resave-data ensembldb StartedAt: 2025-03-31 18:31:17 -0400 (Mon, 31 Mar 2025) EndedAt: 2025-03-31 18:35:32 -0400 (Mon, 31 Mar 2025) EllapsedTime: 254.5 seconds RetCode: 0 Status: OK PackageFile: ensembldb_2.30.0.tar.gz PackageFileSize: 3.286 MiB